BEGIN:VCALENDAR
VERSION:2.0
PRODID:-//New Highland Baptist Church - ECPv6.15.20//NONSGML v1.0//EN
CALSCALE:GREGORIAN
METHOD:PUBLISH
X-WR-CALNAME:New Highland Baptist Church
X-ORIGINAL-URL:https://newhighland.org
X-WR-CALDESC:Events for New Highland Baptist Church
REFRESH-INTERVAL;VALUE=DURATION:PT1H
X-Robots-Tag:noindex
X-PUBLISHED-TTL:PT1H
BEGIN:VTIMEZONE
TZID:America/New_York
BEGIN:DAYLIGHT
TZOFFSETFROM:-0500
TZOFFSETTO:-0400
TZNAME:EDT
DTSTART:20270314T070000
END:DAYLIGHT
BEGIN:STANDARD
TZOFFSETFROM:-0400
TZOFFSETTO:-0500
TZNAME:EST
DTSTART:20271107T060000
END:STANDARD
BEGIN:DAYLIGHT
TZOFFSETFROM:-0500
TZOFFSETTO:-0400
TZNAME:EDT
DTSTART:20280312T070000
END:DAYLIGHT
BEGIN:STANDARD
TZOFFSETFROM:-0400
TZOFFSETTO:-0500
TZNAME:EST
DTSTART:20281105T060000
END:STANDARD
BEGIN:DAYLIGHT
TZOFFSETFROM:-0500
TZOFFSETTO:-0400
TZNAME:EDT
DTSTART:20290311T070000
END:DAYLIGHT
BEGIN:STANDARD
TZOFFSETFROM:-0400
TZOFFSETTO:-0500
TZNAME:EST
DTSTART:20291104T060000
END:STANDARD
END:VTIMEZONE
BEGIN:VEVENT
DTSTART;TZID=America/New_York:20280621T181500
DTEND;TZID=America/New_York:20280621T193000
DTSTAMP:20260425T091024
CREATED:20260319T161510Z
LAST-MODIFIED:20260319T161510Z
UID:10007886-1845224100-1845228600@newhighland.org
SUMMARY:Worship Choir Rehearsal
DESCRIPTION:
URL:https://newhighland.org/event/worship-choir-rehearsal-47/2028-06-21/
END:VEVENT
BEGIN:VEVENT
DTSTART;TZID=America/New_York:20280621T193000
DTEND;TZID=America/New_York:20280621T210000
DTSTAMP:20260425T091024
CREATED:20260319T155939Z
LAST-MODIFIED:20260319T155939Z
UID:10006319-1845228600-1845234000@newhighland.org
SUMMARY:Highland Praise Rehearsal
DESCRIPTION:
URL:https://newhighland.org/event/highland-praise-rehearsal-46/2028-06-21/
END:VEVENT
BEGIN:VEVENT
DTSTART;TZID=America/New_York:20280622T183000
DTEND;TZID=America/New_York:20280622T210000
DTSTAMP:20260425T091024
CREATED:20260319T162901Z
LAST-MODIFIED:20260319T162954Z
UID:10008213-1845311400-1845320400@newhighland.org
SUMMARY:Open Gym - Men's Basketball
DESCRIPTION:
URL:https://newhighland.org/event/open-gym-mens-basketball-43/2028-06-22/
END:VEVENT
BEGIN:VEVENT
DTSTART;TZID=America/New_York:20280625T091500
DTEND;TZID=America/New_York:20280625T101500
DTSTAMP:20260425T091024
CREATED:20260319T160552Z
LAST-MODIFIED:20260319T160552Z
UID:10006843-1845537300-1845540900@newhighland.org
SUMMARY:Sunday School
DESCRIPTION:
URL:https://newhighland.org/event/sunday-school-66/2028-06-25/
END:VEVENT
BEGIN:VEVENT
DTSTART;TZID=America/New_York:20280625T103000
DTEND;TZID=America/New_York:20280625T113000
DTSTAMP:20260425T091024
CREATED:20260319T160706Z
LAST-MODIFIED:20260319T160706Z
UID:10007103-1845541800-1845545400@newhighland.org
SUMMARY:Children's Church/Nursery
DESCRIPTION:
URL:https://newhighland.org/event/childrens-church-nursery-71/2028-06-25/
END:VEVENT
BEGIN:VEVENT
DTSTART;TZID=America/New_York:20280625T103000
DTEND;TZID=America/New_York:20280625T113000
DTSTAMP:20260425T091024
CREATED:20260319T163206Z
LAST-MODIFIED:20260319T163206Z
UID:10008473-1845541800-1845545400@newhighland.org
SUMMARY:Worship Service
DESCRIPTION:
URL:https://newhighland.org/event/worship-service-69/2028-06-25/
END:VEVENT
BEGIN:VEVENT
DTSTART;TZID=America/New_York:20280628T173000
DTEND;TZID=America/New_York:20280628T183000
DTSTAMP:20260425T091024
CREATED:20260319T161356Z
LAST-MODIFIED:20260319T161356Z
UID:10007627-1845826200-1845829800@newhighland.org
SUMMARY:Men's Choir
DESCRIPTION:
URL:https://newhighland.org/event/mens-choir-18/2028-06-28/
END:VEVENT
BEGIN:VEVENT
DTSTART;TZID=America/New_York:20280628T181500
DTEND;TZID=America/New_York:20280628T193000
DTSTAMP:20260425T091024
CREATED:20260319T161510Z
LAST-MODIFIED:20260319T161510Z
UID:10007887-1845828900-1845833400@newhighland.org
SUMMARY:Worship Choir Rehearsal
DESCRIPTION:
URL:https://newhighland.org/event/worship-choir-rehearsal-47/2028-06-28/
END:VEVENT
BEGIN:VEVENT
DTSTART;TZID=America/New_York:20280628T193000
DTEND;TZID=America/New_York:20280628T210000
DTSTAMP:20260425T091024
CREATED:20260319T155939Z
LAST-MODIFIED:20260319T155939Z
UID:10006320-1845833400-1845838800@newhighland.org
SUMMARY:Highland Praise Rehearsal
DESCRIPTION:
URL:https://newhighland.org/event/highland-praise-rehearsal-46/2028-06-28/
END:VEVENT
BEGIN:VEVENT
DTSTART;TZID=America/New_York:20280629T183000
DTEND;TZID=America/New_York:20280629T210000
DTSTAMP:20260425T091024
CREATED:20260319T162901Z
LAST-MODIFIED:20260319T162954Z
UID:10008214-1845916200-1845925200@newhighland.org
SUMMARY:Open Gym - Men's Basketball
DESCRIPTION:
URL:https://newhighland.org/event/open-gym-mens-basketball-43/2028-06-29/
END:VEVENT
BEGIN:VEVENT
DTSTART;TZID=America/New_York:20280702T091500
DTEND;TZID=America/New_York:20280702T101500
DTSTAMP:20260425T091024
CREATED:20260319T160552Z
LAST-MODIFIED:20260319T160552Z
UID:10006844-1846142100-1846145700@newhighland.org
SUMMARY:Sunday School
DESCRIPTION:
URL:https://newhighland.org/event/sunday-school-66/2028-07-02/
END:VEVENT
BEGIN:VEVENT
DTSTART;TZID=America/New_York:20280702T103000
DTEND;TZID=America/New_York:20280702T113000
DTSTAMP:20260425T091024
CREATED:20260319T160706Z
LAST-MODIFIED:20260319T160706Z
UID:10007104-1846146600-1846150200@newhighland.org
SUMMARY:Children's Church/Nursery
DESCRIPTION:
URL:https://newhighland.org/event/childrens-church-nursery-71/2028-07-02/
END:VEVENT
BEGIN:VEVENT
DTSTART;TZID=America/New_York:20280702T103000
DTEND;TZID=America/New_York:20280702T113000
DTSTAMP:20260425T091024
CREATED:20260319T163206Z
LAST-MODIFIED:20260319T163206Z
UID:10008474-1846146600-1846150200@newhighland.org
SUMMARY:Worship Service
DESCRIPTION:
URL:https://newhighland.org/event/worship-service-69/2028-07-02/
END:VEVENT
BEGIN:VEVENT
DTSTART;TZID=America/New_York:20280705T173000
DTEND;TZID=America/New_York:20280705T183000
DTSTAMP:20260425T091024
CREATED:20260319T161356Z
LAST-MODIFIED:20260319T161356Z
UID:10007628-1846431000-1846434600@newhighland.org
SUMMARY:Men's Choir
DESCRIPTION:
URL:https://newhighland.org/event/mens-choir-18/2028-07-05/
END:VEVENT
BEGIN:VEVENT
DTSTART;TZID=America/New_York:20280705T181500
DTEND;TZID=America/New_York:20280705T193000
DTSTAMP:20260425T091024
CREATED:20260319T161510Z
LAST-MODIFIED:20260319T161510Z
UID:10007888-1846433700-1846438200@newhighland.org
SUMMARY:Worship Choir Rehearsal
DESCRIPTION:
URL:https://newhighland.org/event/worship-choir-rehearsal-47/2028-07-05/
END:VEVENT
BEGIN:VEVENT
DTSTART;TZID=America/New_York:20280705T193000
DTEND;TZID=America/New_York:20280705T210000
DTSTAMP:20260425T091024
CREATED:20260319T155939Z
LAST-MODIFIED:20260319T155939Z
UID:10006321-1846438200-1846443600@newhighland.org
SUMMARY:Highland Praise Rehearsal
DESCRIPTION:
URL:https://newhighland.org/event/highland-praise-rehearsal-46/2028-07-05/
END:VEVENT
BEGIN:VEVENT
DTSTART;TZID=America/New_York:20280706T183000
DTEND;TZID=America/New_York:20280706T210000
DTSTAMP:20260425T091024
CREATED:20260319T162901Z
LAST-MODIFIED:20260319T162954Z
UID:10008215-1846521000-1846530000@newhighland.org
SUMMARY:Open Gym - Men's Basketball
DESCRIPTION:
URL:https://newhighland.org/event/open-gym-mens-basketball-43/2028-07-06/
END:VEVENT
BEGIN:VEVENT
DTSTART;TZID=America/New_York:20280709T091500
DTEND;TZID=America/New_York:20280709T101500
DTSTAMP:20260425T091024
CREATED:20260319T160552Z
LAST-MODIFIED:20260319T160552Z
UID:10006845-1846746900-1846750500@newhighland.org
SUMMARY:Sunday School
DESCRIPTION:
URL:https://newhighland.org/event/sunday-school-66/2028-07-09/
END:VEVENT
BEGIN:VEVENT
DTSTART;TZID=America/New_York:20280709T103000
DTEND;TZID=America/New_York:20280709T113000
DTSTAMP:20260425T091024
CREATED:20260319T160706Z
LAST-MODIFIED:20260319T160706Z
UID:10007105-1846751400-1846755000@newhighland.org
SUMMARY:Children's Church/Nursery
DESCRIPTION:
URL:https://newhighland.org/event/childrens-church-nursery-71/2028-07-09/
END:VEVENT
BEGIN:VEVENT
DTSTART;TZID=America/New_York:20280709T103000
DTEND;TZID=America/New_York:20280709T113000
DTSTAMP:20260425T091024
CREATED:20260319T163206Z
LAST-MODIFIED:20260319T163206Z
UID:10008475-1846751400-1846755000@newhighland.org
SUMMARY:Worship Service
DESCRIPTION:
URL:https://newhighland.org/event/worship-service-69/2028-07-09/
END:VEVENT
BEGIN:VEVENT
DTSTART;TZID=America/New_York:20280711T071500
DTEND;TZID=America/New_York:20280711T081500
DTSTAMP:20260425T091024
CREATED:20260319T162339Z
LAST-MODIFIED:20260319T162339Z
UID:10008062-1846912500-1846916100@newhighland.org
SUMMARY:Men's Breakfast
DESCRIPTION:
URL:https://newhighland.org/event/mens-breakfast-14/2028-07-11/
LOCATION:Cold Harbor Restaurant (8153 Mechanicsville Tpke\, Mechanicsville\, VA  23111)
END:VEVENT
BEGIN:VEVENT
DTSTART;TZID=America/New_York:20280712T173000
DTEND;TZID=America/New_York:20280712T183000
DTSTAMP:20260425T091024
CREATED:20260319T161356Z
LAST-MODIFIED:20260319T161356Z
UID:10007629-1847035800-1847039400@newhighland.org
SUMMARY:Men's Choir
DESCRIPTION:
URL:https://newhighland.org/event/mens-choir-18/2028-07-12/
END:VEVENT
BEGIN:VEVENT
DTSTART;TZID=America/New_York:20280712T181500
DTEND;TZID=America/New_York:20280712T193000
DTSTAMP:20260425T091024
CREATED:20260319T161510Z
LAST-MODIFIED:20260319T161510Z
UID:10007889-1847038500-1847043000@newhighland.org
SUMMARY:Worship Choir Rehearsal
DESCRIPTION:
URL:https://newhighland.org/event/worship-choir-rehearsal-47/2028-07-12/
END:VEVENT
BEGIN:VEVENT
DTSTART;TZID=America/New_York:20280712T193000
DTEND;TZID=America/New_York:20280712T210000
DTSTAMP:20260425T091024
CREATED:20260319T155939Z
LAST-MODIFIED:20260319T155939Z
UID:10006322-1847043000-1847048400@newhighland.org
SUMMARY:Highland Praise Rehearsal
DESCRIPTION:
URL:https://newhighland.org/event/highland-praise-rehearsal-46/2028-07-12/
END:VEVENT
BEGIN:VEVENT
DTSTART;TZID=America/New_York:20280713T183000
DTEND;TZID=America/New_York:20280713T210000
DTSTAMP:20260425T091024
CREATED:20260319T162901Z
LAST-MODIFIED:20260319T162954Z
UID:10008216-1847125800-1847134800@newhighland.org
SUMMARY:Open Gym - Men's Basketball
DESCRIPTION:
URL:https://newhighland.org/event/open-gym-mens-basketball-43/2028-07-13/
END:VEVENT
BEGIN:VEVENT
DTSTART;TZID=America/New_York:20280716T091500
DTEND;TZID=America/New_York:20280716T101500
DTSTAMP:20260425T091024
CREATED:20260319T160552Z
LAST-MODIFIED:20260319T160552Z
UID:10006846-1847351700-1847355300@newhighland.org
SUMMARY:Sunday School
DESCRIPTION:
URL:https://newhighland.org/event/sunday-school-66/2028-07-16/
END:VEVENT
BEGIN:VEVENT
DTSTART;TZID=America/New_York:20280716T103000
DTEND;TZID=America/New_York:20280716T113000
DTSTAMP:20260425T091024
CREATED:20260319T160706Z
LAST-MODIFIED:20260319T160706Z
UID:10007106-1847356200-1847359800@newhighland.org
SUMMARY:Children's Church/Nursery
DESCRIPTION:
URL:https://newhighland.org/event/childrens-church-nursery-71/2028-07-16/
END:VEVENT
BEGIN:VEVENT
DTSTART;TZID=America/New_York:20280716T103000
DTEND;TZID=America/New_York:20280716T113000
DTSTAMP:20260425T091024
CREATED:20260319T163206Z
LAST-MODIFIED:20260319T163206Z
UID:10008476-1847356200-1847359800@newhighland.org
SUMMARY:Worship Service
DESCRIPTION:
URL:https://newhighland.org/event/worship-service-69/2028-07-16/
END:VEVENT
BEGIN:VEVENT
DTSTART;TZID=America/New_York:20280719T173000
DTEND;TZID=America/New_York:20280719T183000
DTSTAMP:20260425T091024
CREATED:20260319T161356Z
LAST-MODIFIED:20260319T161356Z
UID:10007630-1847640600-1847644200@newhighland.org
SUMMARY:Men's Choir
DESCRIPTION:
URL:https://newhighland.org/event/mens-choir-18/2028-07-19/
END:VEVENT
BEGIN:VEVENT
DTSTART;TZID=America/New_York:20280719T181500
DTEND;TZID=America/New_York:20280719T193000
DTSTAMP:20260425T091024
CREATED:20260319T161510Z
LAST-MODIFIED:20260319T161510Z
UID:10007890-1847643300-1847647800@newhighland.org
SUMMARY:Worship Choir Rehearsal
DESCRIPTION:
URL:https://newhighland.org/event/worship-choir-rehearsal-47/2028-07-19/
END:VEVENT
END:VCALENDAR