BEGIN:VCALENDAR
VERSION:2.0
PRODID:-//New Highland Baptist Church - ECPv6.15.20//NONSGML v1.0//EN
CALSCALE:GREGORIAN
METHOD:PUBLISH
X-WR-CALNAME:New Highland Baptist Church
X-ORIGINAL-URL:https://newhighland.org
X-WR-CALDESC:Events for New Highland Baptist Church
REFRESH-INTERVAL;VALUE=DURATION:PT1H
X-Robots-Tag:noindex
X-PUBLISHED-TTL:PT1H
BEGIN:VTIMEZONE
TZID:America/New_York
BEGIN:DAYLIGHT
TZOFFSETFROM:-0500
TZOFFSETTO:-0400
TZNAME:EDT
DTSTART:20270314T070000
END:DAYLIGHT
BEGIN:STANDARD
TZOFFSETFROM:-0400
TZOFFSETTO:-0500
TZNAME:EST
DTSTART:20271107T060000
END:STANDARD
BEGIN:DAYLIGHT
TZOFFSETFROM:-0500
TZOFFSETTO:-0400
TZNAME:EDT
DTSTART:20280312T070000
END:DAYLIGHT
BEGIN:STANDARD
TZOFFSETFROM:-0400
TZOFFSETTO:-0500
TZNAME:EST
DTSTART:20281105T060000
END:STANDARD
BEGIN:DAYLIGHT
TZOFFSETFROM:-0500
TZOFFSETTO:-0400
TZNAME:EDT
DTSTART:20290311T070000
END:DAYLIGHT
BEGIN:STANDARD
TZOFFSETFROM:-0400
TZOFFSETTO:-0500
TZNAME:EST
DTSTART:20291104T060000
END:STANDARD
END:VTIMEZONE
BEGIN:VEVENT
DTSTART;TZID=America/New_York:20280412T181500
DTEND;TZID=America/New_York:20280412T193000
DTSTAMP:20260422T184304
CREATED:20260319T161510Z
LAST-MODIFIED:20260319T161510Z
UID:10007876-1839176100-1839180600@newhighland.org
SUMMARY:Worship Choir Rehearsal
DESCRIPTION:
URL:https://newhighland.org/event/worship-choir-rehearsal-47/2028-04-12/
END:VEVENT
BEGIN:VEVENT
DTSTART;TZID=America/New_York:20280412T193000
DTEND;TZID=America/New_York:20280412T210000
DTSTAMP:20260422T184304
CREATED:20260319T155939Z
LAST-MODIFIED:20260319T155939Z
UID:10006309-1839180600-1839186000@newhighland.org
SUMMARY:Highland Praise Rehearsal
DESCRIPTION:
URL:https://newhighland.org/event/highland-praise-rehearsal-46/2028-04-12/
END:VEVENT
BEGIN:VEVENT
DTSTART;TZID=America/New_York:20280413T183000
DTEND;TZID=America/New_York:20280413T210000
DTSTAMP:20260422T184304
CREATED:20260319T162901Z
LAST-MODIFIED:20260319T162954Z
UID:10008203-1839263400-1839272400@newhighland.org
SUMMARY:Open Gym - Men's Basketball
DESCRIPTION:
URL:https://newhighland.org/event/open-gym-mens-basketball-43/2028-04-13/
END:VEVENT
BEGIN:VEVENT
DTSTART;TZID=America/New_York:20280416T091500
DTEND;TZID=America/New_York:20280416T101500
DTSTAMP:20260422T184304
CREATED:20260319T160552Z
LAST-MODIFIED:20260319T160552Z
UID:10006833-1839489300-1839492900@newhighland.org
SUMMARY:Sunday School
DESCRIPTION:
URL:https://newhighland.org/event/sunday-school-66/2028-04-16/
END:VEVENT
BEGIN:VEVENT
DTSTART;TZID=America/New_York:20280416T103000
DTEND;TZID=America/New_York:20280416T113000
DTSTAMP:20260422T184304
CREATED:20260319T160706Z
LAST-MODIFIED:20260319T160706Z
UID:10007093-1839493800-1839497400@newhighland.org
SUMMARY:Children's Church/Nursery
DESCRIPTION:
URL:https://newhighland.org/event/childrens-church-nursery-71/2028-04-16/
END:VEVENT
BEGIN:VEVENT
DTSTART;TZID=America/New_York:20280416T103000
DTEND;TZID=America/New_York:20280416T113000
DTSTAMP:20260422T184304
CREATED:20260319T163206Z
LAST-MODIFIED:20260319T163206Z
UID:10008463-1839493800-1839497400@newhighland.org
SUMMARY:Worship Service
DESCRIPTION:
URL:https://newhighland.org/event/worship-service-69/2028-04-16/
END:VEVENT
BEGIN:VEVENT
DTSTART;TZID=America/New_York:20280419T173000
DTEND;TZID=America/New_York:20280419T183000
DTSTAMP:20260422T184304
CREATED:20260319T161356Z
LAST-MODIFIED:20260319T161356Z
UID:10007617-1839778200-1839781800@newhighland.org
SUMMARY:Men's Choir
DESCRIPTION:
URL:https://newhighland.org/event/mens-choir-18/2028-04-19/
END:VEVENT
BEGIN:VEVENT
DTSTART;TZID=America/New_York:20280419T181500
DTEND;TZID=America/New_York:20280419T193000
DTSTAMP:20260422T184304
CREATED:20260319T161510Z
LAST-MODIFIED:20260319T161510Z
UID:10007877-1839780900-1839785400@newhighland.org
SUMMARY:Worship Choir Rehearsal
DESCRIPTION:
URL:https://newhighland.org/event/worship-choir-rehearsal-47/2028-04-19/
END:VEVENT
BEGIN:VEVENT
DTSTART;TZID=America/New_York:20280419T193000
DTEND;TZID=America/New_York:20280419T210000
DTSTAMP:20260422T184304
CREATED:20260319T155939Z
LAST-MODIFIED:20260319T155939Z
UID:10006310-1839785400-1839790800@newhighland.org
SUMMARY:Highland Praise Rehearsal
DESCRIPTION:
URL:https://newhighland.org/event/highland-praise-rehearsal-46/2028-04-19/
END:VEVENT
BEGIN:VEVENT
DTSTART;TZID=America/New_York:20280420T183000
DTEND;TZID=America/New_York:20280420T210000
DTSTAMP:20260422T184304
CREATED:20260319T162901Z
LAST-MODIFIED:20260319T162954Z
UID:10008204-1839868200-1839877200@newhighland.org
SUMMARY:Open Gym - Men's Basketball
DESCRIPTION:
URL:https://newhighland.org/event/open-gym-mens-basketball-43/2028-04-20/
END:VEVENT
BEGIN:VEVENT
DTSTART;TZID=America/New_York:20280423T091500
DTEND;TZID=America/New_York:20280423T101500
DTSTAMP:20260422T184304
CREATED:20260319T160552Z
LAST-MODIFIED:20260319T160552Z
UID:10006834-1840094100-1840097700@newhighland.org
SUMMARY:Sunday School
DESCRIPTION:
URL:https://newhighland.org/event/sunday-school-66/2028-04-23/
END:VEVENT
BEGIN:VEVENT
DTSTART;TZID=America/New_York:20280423T103000
DTEND;TZID=America/New_York:20280423T113000
DTSTAMP:20260422T184304
CREATED:20260319T160706Z
LAST-MODIFIED:20260319T160706Z
UID:10007094-1840098600-1840102200@newhighland.org
SUMMARY:Children's Church/Nursery
DESCRIPTION:
URL:https://newhighland.org/event/childrens-church-nursery-71/2028-04-23/
END:VEVENT
BEGIN:VEVENT
DTSTART;TZID=America/New_York:20280423T103000
DTEND;TZID=America/New_York:20280423T113000
DTSTAMP:20260422T184304
CREATED:20260319T163206Z
LAST-MODIFIED:20260319T163206Z
UID:10008464-1840098600-1840102200@newhighland.org
SUMMARY:Worship Service
DESCRIPTION:
URL:https://newhighland.org/event/worship-service-69/2028-04-23/
END:VEVENT
BEGIN:VEVENT
DTSTART;TZID=America/New_York:20280426T173000
DTEND;TZID=America/New_York:20280426T183000
DTSTAMP:20260422T184304
CREATED:20260319T161356Z
LAST-MODIFIED:20260319T161356Z
UID:10007618-1840383000-1840386600@newhighland.org
SUMMARY:Men's Choir
DESCRIPTION:
URL:https://newhighland.org/event/mens-choir-18/2028-04-26/
END:VEVENT
BEGIN:VEVENT
DTSTART;TZID=America/New_York:20280426T181500
DTEND;TZID=America/New_York:20280426T193000
DTSTAMP:20260422T184304
CREATED:20260319T161510Z
LAST-MODIFIED:20260319T161510Z
UID:10007878-1840385700-1840390200@newhighland.org
SUMMARY:Worship Choir Rehearsal
DESCRIPTION:
URL:https://newhighland.org/event/worship-choir-rehearsal-47/2028-04-26/
END:VEVENT
BEGIN:VEVENT
DTSTART;TZID=America/New_York:20280426T193000
DTEND;TZID=America/New_York:20280426T210000
DTSTAMP:20260422T184304
CREATED:20260319T155939Z
LAST-MODIFIED:20260319T155939Z
UID:10006311-1840390200-1840395600@newhighland.org
SUMMARY:Highland Praise Rehearsal
DESCRIPTION:
URL:https://newhighland.org/event/highland-praise-rehearsal-46/2028-04-26/
END:VEVENT
BEGIN:VEVENT
DTSTART;TZID=America/New_York:20280427T183000
DTEND;TZID=America/New_York:20280427T210000
DTSTAMP:20260422T184304
CREATED:20260319T162901Z
LAST-MODIFIED:20260319T162954Z
UID:10008205-1840473000-1840482000@newhighland.org
SUMMARY:Open Gym - Men's Basketball
DESCRIPTION:
URL:https://newhighland.org/event/open-gym-mens-basketball-43/2028-04-27/
END:VEVENT
BEGIN:VEVENT
DTSTART;TZID=America/New_York:20280430T091500
DTEND;TZID=America/New_York:20280430T101500
DTSTAMP:20260422T184304
CREATED:20260319T160552Z
LAST-MODIFIED:20260319T160552Z
UID:10006835-1840698900-1840702500@newhighland.org
SUMMARY:Sunday School
DESCRIPTION:
URL:https://newhighland.org/event/sunday-school-66/2028-04-30/
END:VEVENT
BEGIN:VEVENT
DTSTART;TZID=America/New_York:20280430T103000
DTEND;TZID=America/New_York:20280430T113000
DTSTAMP:20260422T184304
CREATED:20260319T160706Z
LAST-MODIFIED:20260319T160706Z
UID:10007095-1840703400-1840707000@newhighland.org
SUMMARY:Children's Church/Nursery
DESCRIPTION:
URL:https://newhighland.org/event/childrens-church-nursery-71/2028-04-30/
END:VEVENT
BEGIN:VEVENT
DTSTART;TZID=America/New_York:20280430T103000
DTEND;TZID=America/New_York:20280430T113000
DTSTAMP:20260422T184304
CREATED:20260319T163206Z
LAST-MODIFIED:20260319T163206Z
UID:10008465-1840703400-1840707000@newhighland.org
SUMMARY:Worship Service
DESCRIPTION:
URL:https://newhighland.org/event/worship-service-69/2028-04-30/
END:VEVENT
BEGIN:VEVENT
DTSTART;TZID=America/New_York:20280503T173000
DTEND;TZID=America/New_York:20280503T183000
DTSTAMP:20260422T184304
CREATED:20260319T161356Z
LAST-MODIFIED:20260319T161356Z
UID:10007619-1840987800-1840991400@newhighland.org
SUMMARY:Men's Choir
DESCRIPTION:
URL:https://newhighland.org/event/mens-choir-18/2028-05-03/
END:VEVENT
BEGIN:VEVENT
DTSTART;TZID=America/New_York:20280503T181500
DTEND;TZID=America/New_York:20280503T193000
DTSTAMP:20260422T184304
CREATED:20260319T161510Z
LAST-MODIFIED:20260319T161510Z
UID:10007879-1840990500-1840995000@newhighland.org
SUMMARY:Worship Choir Rehearsal
DESCRIPTION:
URL:https://newhighland.org/event/worship-choir-rehearsal-47/2028-05-03/
END:VEVENT
BEGIN:VEVENT
DTSTART;TZID=America/New_York:20280503T193000
DTEND;TZID=America/New_York:20280503T210000
DTSTAMP:20260422T184304
CREATED:20260319T155939Z
LAST-MODIFIED:20260319T155939Z
UID:10006312-1840995000-1841000400@newhighland.org
SUMMARY:Highland Praise Rehearsal
DESCRIPTION:
URL:https://newhighland.org/event/highland-praise-rehearsal-46/2028-05-03/
END:VEVENT
BEGIN:VEVENT
DTSTART;TZID=America/New_York:20280504T183000
DTEND;TZID=America/New_York:20280504T210000
DTSTAMP:20260422T184304
CREATED:20260319T162901Z
LAST-MODIFIED:20260319T162954Z
UID:10008206-1841077800-1841086800@newhighland.org
SUMMARY:Open Gym - Men's Basketball
DESCRIPTION:
URL:https://newhighland.org/event/open-gym-mens-basketball-43/2028-05-04/
END:VEVENT
BEGIN:VEVENT
DTSTART;TZID=America/New_York:20280507T091500
DTEND;TZID=America/New_York:20280507T101500
DTSTAMP:20260422T184304
CREATED:20260319T160552Z
LAST-MODIFIED:20260319T160552Z
UID:10006836-1841303700-1841307300@newhighland.org
SUMMARY:Sunday School
DESCRIPTION:
URL:https://newhighland.org/event/sunday-school-66/2028-05-07/
END:VEVENT
BEGIN:VEVENT
DTSTART;TZID=America/New_York:20280507T103000
DTEND;TZID=America/New_York:20280507T113000
DTSTAMP:20260422T184304
CREATED:20260319T160706Z
LAST-MODIFIED:20260319T160706Z
UID:10007096-1841308200-1841311800@newhighland.org
SUMMARY:Children's Church/Nursery
DESCRIPTION:
URL:https://newhighland.org/event/childrens-church-nursery-71/2028-05-07/
END:VEVENT
BEGIN:VEVENT
DTSTART;TZID=America/New_York:20280507T103000
DTEND;TZID=America/New_York:20280507T113000
DTSTAMP:20260422T184304
CREATED:20260319T163206Z
LAST-MODIFIED:20260319T163206Z
UID:10008466-1841308200-1841311800@newhighland.org
SUMMARY:Worship Service
DESCRIPTION:
URL:https://newhighland.org/event/worship-service-69/2028-05-07/
END:VEVENT
BEGIN:VEVENT
DTSTART;TZID=America/New_York:20280509T071500
DTEND;TZID=America/New_York:20280509T081500
DTSTAMP:20260422T184304
CREATED:20260319T162339Z
LAST-MODIFIED:20260319T162339Z
UID:10008060-1841469300-1841472900@newhighland.org
SUMMARY:Men's Breakfast
DESCRIPTION:
URL:https://newhighland.org/event/mens-breakfast-14/2028-05-09/
LOCATION:Cold Harbor Restaurant (8153 Mechanicsville Tpke\, Mechanicsville\, VA  23111)
END:VEVENT
BEGIN:VEVENT
DTSTART;TZID=America/New_York:20280510T173000
DTEND;TZID=America/New_York:20280510T183000
DTSTAMP:20260422T184304
CREATED:20260319T161356Z
LAST-MODIFIED:20260319T161356Z
UID:10007620-1841592600-1841596200@newhighland.org
SUMMARY:Men's Choir
DESCRIPTION:
URL:https://newhighland.org/event/mens-choir-18/2028-05-10/
END:VEVENT
BEGIN:VEVENT
DTSTART;TZID=America/New_York:20280510T181500
DTEND;TZID=America/New_York:20280510T193000
DTSTAMP:20260422T184304
CREATED:20260319T161510Z
LAST-MODIFIED:20260319T161510Z
UID:10007880-1841595300-1841599800@newhighland.org
SUMMARY:Worship Choir Rehearsal
DESCRIPTION:
URL:https://newhighland.org/event/worship-choir-rehearsal-47/2028-05-10/
END:VEVENT
END:VCALENDAR