BEGIN:VCALENDAR
VERSION:2.0
PRODID:-//New Highland Baptist Church - ECPv6.15.20//NONSGML v1.0//EN
CALSCALE:GREGORIAN
METHOD:PUBLISH
X-WR-CALNAME:New Highland Baptist Church
X-ORIGINAL-URL:https://newhighland.org
X-WR-CALDESC:Events for New Highland Baptist Church
REFRESH-INTERVAL;VALUE=DURATION:PT1H
X-Robots-Tag:noindex
X-PUBLISHED-TTL:PT1H
BEGIN:VTIMEZONE
TZID:America/New_York
BEGIN:DAYLIGHT
TZOFFSETFROM:-0500
TZOFFSETTO:-0400
TZNAME:EDT
DTSTART:20270314T070000
END:DAYLIGHT
BEGIN:STANDARD
TZOFFSETFROM:-0400
TZOFFSETTO:-0500
TZNAME:EST
DTSTART:20271107T060000
END:STANDARD
BEGIN:DAYLIGHT
TZOFFSETFROM:-0500
TZOFFSETTO:-0400
TZNAME:EDT
DTSTART:20280312T070000
END:DAYLIGHT
BEGIN:STANDARD
TZOFFSETFROM:-0400
TZOFFSETTO:-0500
TZNAME:EST
DTSTART:20281105T060000
END:STANDARD
BEGIN:DAYLIGHT
TZOFFSETFROM:-0500
TZOFFSETTO:-0400
TZNAME:EDT
DTSTART:20290311T070000
END:DAYLIGHT
BEGIN:STANDARD
TZOFFSETFROM:-0400
TZOFFSETTO:-0500
TZNAME:EST
DTSTART:20291104T060000
END:STANDARD
END:VTIMEZONE
BEGIN:VEVENT
DTSTART;TZID=America/New_York:20280308T193000
DTEND;TZID=America/New_York:20280308T210000
DTSTAMP:20260422T143246
CREATED:20260319T155939Z
LAST-MODIFIED:20260319T155939Z
UID:10006304-1836156600-1836162000@newhighland.org
SUMMARY:Highland Praise Rehearsal
DESCRIPTION:
URL:https://newhighland.org/event/highland-praise-rehearsal-46/2028-03-08/
END:VEVENT
BEGIN:VEVENT
DTSTART;TZID=America/New_York:20280309T183000
DTEND;TZID=America/New_York:20280309T210000
DTSTAMP:20260422T143246
CREATED:20260319T162901Z
LAST-MODIFIED:20260319T162954Z
UID:10008198-1836239400-1836248400@newhighland.org
SUMMARY:Open Gym - Men's Basketball
DESCRIPTION:
URL:https://newhighland.org/event/open-gym-mens-basketball-43/2028-03-09/
END:VEVENT
BEGIN:VEVENT
DTSTART;TZID=America/New_York:20280312T091500
DTEND;TZID=America/New_York:20280312T101500
DTSTAMP:20260422T143246
CREATED:20260319T160552Z
LAST-MODIFIED:20260319T160552Z
UID:10006828-1836465300-1836468900@newhighland.org
SUMMARY:Sunday School
DESCRIPTION:
URL:https://newhighland.org/event/sunday-school-66/2028-03-12/
END:VEVENT
BEGIN:VEVENT
DTSTART;TZID=America/New_York:20280312T103000
DTEND;TZID=America/New_York:20280312T113000
DTSTAMP:20260422T143246
CREATED:20260319T160706Z
LAST-MODIFIED:20260319T160706Z
UID:10007088-1836469800-1836473400@newhighland.org
SUMMARY:Children's Church/Nursery
DESCRIPTION:
URL:https://newhighland.org/event/childrens-church-nursery-71/2028-03-12/
END:VEVENT
BEGIN:VEVENT
DTSTART;TZID=America/New_York:20280312T103000
DTEND;TZID=America/New_York:20280312T113000
DTSTAMP:20260422T143246
CREATED:20260319T163206Z
LAST-MODIFIED:20260319T163206Z
UID:10008458-1836469800-1836473400@newhighland.org
SUMMARY:Worship Service
DESCRIPTION:
URL:https://newhighland.org/event/worship-service-69/2028-03-12/
END:VEVENT
BEGIN:VEVENT
DTSTART;TZID=America/New_York:20280314T071500
DTEND;TZID=America/New_York:20280314T081500
DTSTAMP:20260422T143246
CREATED:20260319T162339Z
LAST-MODIFIED:20260319T162339Z
UID:10008058-1836630900-1836634500@newhighland.org
SUMMARY:Men's Breakfast
DESCRIPTION:
URL:https://newhighland.org/event/mens-breakfast-14/2028-03-14/
LOCATION:Cold Harbor Restaurant (8153 Mechanicsville Tpke\, Mechanicsville\, VA  23111)
END:VEVENT
BEGIN:VEVENT
DTSTART;TZID=America/New_York:20280315T173000
DTEND;TZID=America/New_York:20280315T183000
DTSTAMP:20260422T143246
CREATED:20260319T161356Z
LAST-MODIFIED:20260319T161356Z
UID:10007612-1836754200-1836757800@newhighland.org
SUMMARY:Men's Choir
DESCRIPTION:
URL:https://newhighland.org/event/mens-choir-18/2028-03-15/
END:VEVENT
BEGIN:VEVENT
DTSTART;TZID=America/New_York:20280315T181500
DTEND;TZID=America/New_York:20280315T193000
DTSTAMP:20260422T143246
CREATED:20260319T161510Z
LAST-MODIFIED:20260319T161510Z
UID:10007872-1836756900-1836761400@newhighland.org
SUMMARY:Worship Choir Rehearsal
DESCRIPTION:
URL:https://newhighland.org/event/worship-choir-rehearsal-47/2028-03-15/
END:VEVENT
BEGIN:VEVENT
DTSTART;TZID=America/New_York:20280315T193000
DTEND;TZID=America/New_York:20280315T210000
DTSTAMP:20260422T143246
CREATED:20260319T155939Z
LAST-MODIFIED:20260319T155939Z
UID:10006305-1836761400-1836766800@newhighland.org
SUMMARY:Highland Praise Rehearsal
DESCRIPTION:
URL:https://newhighland.org/event/highland-praise-rehearsal-46/2028-03-15/
END:VEVENT
BEGIN:VEVENT
DTSTART;TZID=America/New_York:20280316T183000
DTEND;TZID=America/New_York:20280316T210000
DTSTAMP:20260422T143246
CREATED:20260319T162901Z
LAST-MODIFIED:20260319T162954Z
UID:10008199-1836844200-1836853200@newhighland.org
SUMMARY:Open Gym - Men's Basketball
DESCRIPTION:
URL:https://newhighland.org/event/open-gym-mens-basketball-43/2028-03-16/
END:VEVENT
BEGIN:VEVENT
DTSTART;TZID=America/New_York:20280319T091500
DTEND;TZID=America/New_York:20280319T101500
DTSTAMP:20260422T143246
CREATED:20260319T160552Z
LAST-MODIFIED:20260319T160552Z
UID:10006829-1837070100-1837073700@newhighland.org
SUMMARY:Sunday School
DESCRIPTION:
URL:https://newhighland.org/event/sunday-school-66/2028-03-19/
END:VEVENT
BEGIN:VEVENT
DTSTART;TZID=America/New_York:20280319T103000
DTEND;TZID=America/New_York:20280319T113000
DTSTAMP:20260422T143246
CREATED:20260319T160706Z
LAST-MODIFIED:20260319T160706Z
UID:10007089-1837074600-1837078200@newhighland.org
SUMMARY:Children's Church/Nursery
DESCRIPTION:
URL:https://newhighland.org/event/childrens-church-nursery-71/2028-03-19/
END:VEVENT
BEGIN:VEVENT
DTSTART;TZID=America/New_York:20280319T103000
DTEND;TZID=America/New_York:20280319T113000
DTSTAMP:20260422T143246
CREATED:20260319T163206Z
LAST-MODIFIED:20260319T163206Z
UID:10008459-1837074600-1837078200@newhighland.org
SUMMARY:Worship Service
DESCRIPTION:
URL:https://newhighland.org/event/worship-service-69/2028-03-19/
END:VEVENT
BEGIN:VEVENT
DTSTART;TZID=America/New_York:20280322T173000
DTEND;TZID=America/New_York:20280322T183000
DTSTAMP:20260422T143246
CREATED:20260319T161356Z
LAST-MODIFIED:20260319T161356Z
UID:10007613-1837359000-1837362600@newhighland.org
SUMMARY:Men's Choir
DESCRIPTION:
URL:https://newhighland.org/event/mens-choir-18/2028-03-22/
END:VEVENT
BEGIN:VEVENT
DTSTART;TZID=America/New_York:20280322T181500
DTEND;TZID=America/New_York:20280322T193000
DTSTAMP:20260422T143246
CREATED:20260319T161510Z
LAST-MODIFIED:20260319T161510Z
UID:10007873-1837361700-1837366200@newhighland.org
SUMMARY:Worship Choir Rehearsal
DESCRIPTION:
URL:https://newhighland.org/event/worship-choir-rehearsal-47/2028-03-22/
END:VEVENT
BEGIN:VEVENT
DTSTART;TZID=America/New_York:20280322T193000
DTEND;TZID=America/New_York:20280322T210000
DTSTAMP:20260422T143246
CREATED:20260319T155939Z
LAST-MODIFIED:20260319T155939Z
UID:10006306-1837366200-1837371600@newhighland.org
SUMMARY:Highland Praise Rehearsal
DESCRIPTION:
URL:https://newhighland.org/event/highland-praise-rehearsal-46/2028-03-22/
END:VEVENT
BEGIN:VEVENT
DTSTART;TZID=America/New_York:20280323T183000
DTEND;TZID=America/New_York:20280323T210000
DTSTAMP:20260422T143246
CREATED:20260319T162901Z
LAST-MODIFIED:20260319T162954Z
UID:10008200-1837449000-1837458000@newhighland.org
SUMMARY:Open Gym - Men's Basketball
DESCRIPTION:
URL:https://newhighland.org/event/open-gym-mens-basketball-43/2028-03-23/
END:VEVENT
BEGIN:VEVENT
DTSTART;TZID=America/New_York:20280326T091500
DTEND;TZID=America/New_York:20280326T101500
DTSTAMP:20260422T143246
CREATED:20260319T160552Z
LAST-MODIFIED:20260319T160552Z
UID:10006830-1837674900-1837678500@newhighland.org
SUMMARY:Sunday School
DESCRIPTION:
URL:https://newhighland.org/event/sunday-school-66/2028-03-26/
END:VEVENT
BEGIN:VEVENT
DTSTART;TZID=America/New_York:20280326T103000
DTEND;TZID=America/New_York:20280326T113000
DTSTAMP:20260422T143246
CREATED:20260319T160706Z
LAST-MODIFIED:20260319T160706Z
UID:10007090-1837679400-1837683000@newhighland.org
SUMMARY:Children's Church/Nursery
DESCRIPTION:
URL:https://newhighland.org/event/childrens-church-nursery-71/2028-03-26/
END:VEVENT
BEGIN:VEVENT
DTSTART;TZID=America/New_York:20280326T103000
DTEND;TZID=America/New_York:20280326T113000
DTSTAMP:20260422T143246
CREATED:20260319T163206Z
LAST-MODIFIED:20260319T163206Z
UID:10008460-1837679400-1837683000@newhighland.org
SUMMARY:Worship Service
DESCRIPTION:
URL:https://newhighland.org/event/worship-service-69/2028-03-26/
END:VEVENT
BEGIN:VEVENT
DTSTART;TZID=America/New_York:20280329T173000
DTEND;TZID=America/New_York:20280329T183000
DTSTAMP:20260422T143246
CREATED:20260319T161356Z
LAST-MODIFIED:20260319T161356Z
UID:10007614-1837963800-1837967400@newhighland.org
SUMMARY:Men's Choir
DESCRIPTION:
URL:https://newhighland.org/event/mens-choir-18/2028-03-29/
END:VEVENT
BEGIN:VEVENT
DTSTART;TZID=America/New_York:20280329T181500
DTEND;TZID=America/New_York:20280329T193000
DTSTAMP:20260422T143246
CREATED:20260319T161510Z
LAST-MODIFIED:20260319T161510Z
UID:10007874-1837966500-1837971000@newhighland.org
SUMMARY:Worship Choir Rehearsal
DESCRIPTION:
URL:https://newhighland.org/event/worship-choir-rehearsal-47/2028-03-29/
END:VEVENT
BEGIN:VEVENT
DTSTART;TZID=America/New_York:20280329T193000
DTEND;TZID=America/New_York:20280329T210000
DTSTAMP:20260422T143246
CREATED:20260319T155939Z
LAST-MODIFIED:20260319T155939Z
UID:10006307-1837971000-1837976400@newhighland.org
SUMMARY:Highland Praise Rehearsal
DESCRIPTION:
URL:https://newhighland.org/event/highland-praise-rehearsal-46/2028-03-29/
END:VEVENT
BEGIN:VEVENT
DTSTART;TZID=America/New_York:20280330T183000
DTEND;TZID=America/New_York:20280330T210000
DTSTAMP:20260422T143246
CREATED:20260319T162901Z
LAST-MODIFIED:20260319T162954Z
UID:10008201-1838053800-1838062800@newhighland.org
SUMMARY:Open Gym - Men's Basketball
DESCRIPTION:
URL:https://newhighland.org/event/open-gym-mens-basketball-43/2028-03-30/
END:VEVENT
BEGIN:VEVENT
DTSTART;TZID=America/New_York:20280402T091500
DTEND;TZID=America/New_York:20280402T101500
DTSTAMP:20260422T143246
CREATED:20260319T160552Z
LAST-MODIFIED:20260319T160552Z
UID:10006831-1838279700-1838283300@newhighland.org
SUMMARY:Sunday School
DESCRIPTION:
URL:https://newhighland.org/event/sunday-school-66/2028-04-02/
END:VEVENT
BEGIN:VEVENT
DTSTART;TZID=America/New_York:20280402T103000
DTEND;TZID=America/New_York:20280402T113000
DTSTAMP:20260422T143246
CREATED:20260319T160706Z
LAST-MODIFIED:20260319T160706Z
UID:10007091-1838284200-1838287800@newhighland.org
SUMMARY:Children's Church/Nursery
DESCRIPTION:
URL:https://newhighland.org/event/childrens-church-nursery-71/2028-04-02/
END:VEVENT
BEGIN:VEVENT
DTSTART;TZID=America/New_York:20280402T103000
DTEND;TZID=America/New_York:20280402T113000
DTSTAMP:20260422T143246
CREATED:20260319T163206Z
LAST-MODIFIED:20260319T163206Z
UID:10008461-1838284200-1838287800@newhighland.org
SUMMARY:Worship Service
DESCRIPTION:
URL:https://newhighland.org/event/worship-service-69/2028-04-02/
END:VEVENT
BEGIN:VEVENT
DTSTART;TZID=America/New_York:20280405T173000
DTEND;TZID=America/New_York:20280405T183000
DTSTAMP:20260422T143246
CREATED:20260319T161356Z
LAST-MODIFIED:20260319T161356Z
UID:10007615-1838568600-1838572200@newhighland.org
SUMMARY:Men's Choir
DESCRIPTION:
URL:https://newhighland.org/event/mens-choir-18/2028-04-05/
END:VEVENT
BEGIN:VEVENT
DTSTART;TZID=America/New_York:20280405T181500
DTEND;TZID=America/New_York:20280405T193000
DTSTAMP:20260422T143246
CREATED:20260319T161510Z
LAST-MODIFIED:20260319T161510Z
UID:10007875-1838571300-1838575800@newhighland.org
SUMMARY:Worship Choir Rehearsal
DESCRIPTION:
URL:https://newhighland.org/event/worship-choir-rehearsal-47/2028-04-05/
END:VEVENT
BEGIN:VEVENT
DTSTART;TZID=America/New_York:20280405T193000
DTEND;TZID=America/New_York:20280405T210000
DTSTAMP:20260422T143246
CREATED:20260319T155939Z
LAST-MODIFIED:20260319T155939Z
UID:10006308-1838575800-1838581200@newhighland.org
SUMMARY:Highland Praise Rehearsal
DESCRIPTION:
URL:https://newhighland.org/event/highland-praise-rehearsal-46/2028-04-05/
END:VEVENT
END:VCALENDAR