BEGIN:VCALENDAR
VERSION:2.0
PRODID:-//New Highland Baptist Church - ECPv6.15.20//NONSGML v1.0//EN
CALSCALE:GREGORIAN
METHOD:PUBLISH
X-WR-CALNAME:New Highland Baptist Church
X-ORIGINAL-URL:https://newhighland.org
X-WR-CALDESC:Events for New Highland Baptist Church
REFRESH-INTERVAL;VALUE=DURATION:PT1H
X-Robots-Tag:noindex
X-PUBLISHED-TTL:PT1H
BEGIN:VTIMEZONE
TZID:America/New_York
BEGIN:DAYLIGHT
TZOFFSETFROM:-0500
TZOFFSETTO:-0400
TZNAME:EDT
DTSTART:20250309T070000
END:DAYLIGHT
BEGIN:STANDARD
TZOFFSETFROM:-0400
TZOFFSETTO:-0500
TZNAME:EST
DTSTART:20251102T060000
END:STANDARD
BEGIN:DAYLIGHT
TZOFFSETFROM:-0500
TZOFFSETTO:-0400
TZNAME:EDT
DTSTART:20260308T070000
END:DAYLIGHT
BEGIN:STANDARD
TZOFFSETFROM:-0400
TZOFFSETTO:-0500
TZNAME:EST
DTSTART:20261101T060000
END:STANDARD
BEGIN:DAYLIGHT
TZOFFSETFROM:-0500
TZOFFSETTO:-0400
TZNAME:EDT
DTSTART:20270314T070000
END:DAYLIGHT
BEGIN:STANDARD
TZOFFSETFROM:-0400
TZOFFSETTO:-0500
TZNAME:EST
DTSTART:20271107T060000
END:STANDARD
END:VTIMEZONE
BEGIN:VEVENT
DTSTART;TZID=America/New_York:20260419T091500
DTEND;TZID=America/New_York:20260419T101500
DTSTAMP:20260425T084442
CREATED:20260319T160552Z
LAST-MODIFIED:20260319T160552Z
UID:10006729-1776590100-1776593700@newhighland.org
SUMMARY:Sunday School
DESCRIPTION:
URL:https://newhighland.org/event/sunday-school-66/2026-04-19/
END:VEVENT
BEGIN:VEVENT
DTSTART;TZID=America/New_York:20260419T103000
DTEND;TZID=America/New_York:20260419T113000
DTSTAMP:20260425T084442
CREATED:20260319T160706Z
LAST-MODIFIED:20260319T160706Z
UID:10006989-1776594600-1776598200@newhighland.org
SUMMARY:Children's Church/Nursery
DESCRIPTION:
URL:https://newhighland.org/event/childrens-church-nursery-71/2026-04-19/
END:VEVENT
BEGIN:VEVENT
DTSTART;TZID=America/New_York:20260419T103000
DTEND;TZID=America/New_York:20260419T113000
DTSTAMP:20260425T084442
CREATED:20260319T163206Z
LAST-MODIFIED:20260319T163206Z
UID:10008359-1776594600-1776598200@newhighland.org
SUMMARY:Worship Service
DESCRIPTION:
URL:https://newhighland.org/event/worship-service-69/2026-04-19/
END:VEVENT
BEGIN:VEVENT
DTSTART;TZID=America/New_York:20260419T200000
DTEND;TZID=America/New_York:20260419T213000
DTSTAMP:20260425T084442
CREATED:20260402T222200Z
LAST-MODIFIED:20260408T225156Z
UID:10009062-1776628800-1776634200@newhighland.org
SUMMARY:LiTE Nite!
DESCRIPTION:
URL:https://newhighland.org/event/lite-nite-45/
LOCATION:CLC and Kitchen
END:VEVENT
END:VCALENDAR